BEGIN:VCALENDAR
VERSION:2.0
PRODID:icalendar-ruby
CALSCALE:GREGORIAN
BEGIN:VEVENT
DTSTAMP:20260420T140609Z
UID:fabfde5a-d308-40ce-b19c-63d3426a4fd7
DTSTART;TZID=Pacific/Auckland:20260426T130000
DTEND;TZID=Pacific/Auckland:20260426T133000
DESCRIPTION:Property ID# 606053
SUMMARY:Openhome for 46 Otuhiwai Crescent
END:VEVENT
END:VCALENDAR
